BEGIN:VCALENDAR
VERSION:2.0
PRODID:-//eventon.com NONSGML v1.0//EN
CALSCALE:GREGORIAN
METHOD:PUBLISH
BEGIN:VEVENT
UID:69e5ed2898114
DTSTAMP:20260420T090856Z
DTSTART:20231001T110000Z
DTEND:20231001T235000Z
LOCATION:Community Fellowship Church 11545 Jersey Mt Road
SUMMARY:Community Fellowship Church - Levels\,  WV
DESCRIPTION:Community Fellowship Church - Levels\,  WV\nhttps://keithcollin
 s.net/events/community-fellowship-church-levels-wv/
URL:https://keithcollins.net/events/community-fellowship-church-levels-wv/
END:VEVENT
END:VCALENDAR