BEGIN:VCALENDAR
VERSION:2.0
PRODID:-//eventon.com NONSGML v1.0//EN
CALSCALE:GREGORIAN
METHOD:PUBLISH
BEGIN:VEVENT
UID:69e601109c012
DTSTAMP:20260420T103352Z
DTSTART:20250129
DTEND:20250130
LOCATION:
SUMMARY:The Philippines
DESCRIPTION:\nhttps://keithcollins.net/events/the-philippines/
URL:https://keithcollins.net/events/the-philippines/
END:VEVENT
END:VCALENDAR